BEGIN:VCALENDAR
VERSION:2.0
PRODID:-//hacksw/handcal//NONSGML v1.0//EN
BEGIN:VEVENT
DTSTAMP:20260424T230500Z
DTSTART:20260424T230500Z
DTEND:20260425T010500Z

SUMMARY:SC Stingrays vs. Atlanta Gladiators
DESCRIPTION:The South Carolina Stingrays have officially secured home-ice advantage for their best-of-seven first-round series against the Atlanta Gladiators in the 2026 Kelly Cup Playoffs, presented by Plumb Pro+.
END:VEVENT
END:VCALENDAR