BEGIN:VCALENDAR
VERSION:2.0
PRODID:-//hacksw/handcal//NONSGML v1.0//EN
BEGIN:VEVENT
DTSTAMP:20260711T123000Z
DTSTART:20260711T123000Z
DTEND:20260711T143000Z

SUMMARY:LIFE SURGE Charleston
DESCRIPTION:Surge Your Life God&#39;s WayA one-day life-changing event where thousands of local Christians gather to learn why and how to create and multiply financial resources for Kingdom impact.Join thousands of believers who are ready to honor God with their resources and live with eternal purpose.Through powerful worship, world-class speakers, and biblical financial insights, you’ll walk away:With clarity on your divine callingGrounded in biblical wisdom for your financesEquipped with practical tools to build a legacyReignited with purpose to impact your family, community, and the Kingdom
END:VEVENT
END:VCALENDAR