BEGIN:VCALENDAR
VERSION:2.0
PRODID:-//hacksw/handcal//NONSGML v1.0//EN
BEGIN:VEVENT
DTSTAMP:20260626T233000Z
DTSTART:20260626T233000Z
DTEND:20260627T013000Z

SUMMARY:Chris Stapleton’s All-American Road Show
DESCRIPTION:Country music titan Chris Stapleton is extending his legendary trek into 2026. The highly anticipated run reinforces his status as a dominant force following his latest critically acclaimed album, Higher. Grace Potter will be joining him in North Charleston on Friday night, and Grace Bowers on Saturday night.
END:VEVENT
END:VCALENDAR