BEGIN:VCALENDAR
VERSION:2.0
PRODID:-//hacksw/handcal//NONSGML v1.0//EN
BEGIN:VEVENT
DTSTAMP:20260508T233000Z
DTSTART:20260508T233000Z
DTEND:20260509T013000Z

SUMMARY:Brit Floyd
DESCRIPTION:This tour will honor two of Pink Floyd&#39;s most celebrated albums, The Dark Side of the Moon and The Wall, featuring a spectacular show that combines stunning musicianship with cutting-edge visuals and theatrical elements.
END:VEVENT
END:VCALENDAR